
BEGIN:VCALENDAR
PRODID:-//Calendar//Calendar Event//EN
VERSION:2.0
METHOD:PUBLISH
BEGIN:VEVENT
DTSTAMP:20260330T161740Z
UID:event744168-1783533600@biblioottawalibrary.ca
ORGANIZER;CN=Ottawa Public Library:MAILTO:oplwebchanges@biblioottawalibrary.ca
DTSTART;TZID=America/Toronto:20260708T140000
DTEND;TZID=America/Toronto:20260708T150000
SUMMARY:BLOCK BOOKING SRC WEDNESDAYS 1A (delete when making events)
DESCRIPTION:
LOCATION:Sunnyside at Program Room 1A
SEQUENCE:0
END:VEVENT
BEGIN:VEVENT
DTSTAMP:20260330T161740Z
UID:event744168-1784138400@biblioottawalibrary.ca
ORGANIZER;CN=Ottawa Public Library:MAILTO:oplwebchanges@biblioottawalibrary.ca
DTSTART;TZID=America/Toronto:20260715T140000
DTEND;TZID=America/Toronto:20260715T150000
SUMMARY:BLOCK BOOKING SRC WEDNESDAYS 1A (delete when making events)
DESCRIPTION:
LOCATION:Sunnyside at Program Room 1A
SEQUENCE:0
END:VEVENT
BEGIN:VEVENT
DTSTAMP:20260330T161740Z
UID:event744168-1784743200@biblioottawalibrary.ca
ORGANIZER;CN=Ottawa Public Library:MAILTO:oplwebchanges@biblioottawalibrary.ca
DTSTART;TZID=America/Toronto:20260722T140000
DTEND;TZID=America/Toronto:20260722T150000
SUMMARY:BLOCK BOOKING SRC WEDNESDAYS 1A (delete when making events)
DESCRIPTION:
LOCATION:Sunnyside at Program Room 1A
SEQUENCE:0
END:VEVENT
BEGIN:VEVENT
DTSTAMP:20260330T161740Z
UID:event744168-1785348000@biblioottawalibrary.ca
ORGANIZER;CN=Ottawa Public Library:MAILTO:oplwebchanges@biblioottawalibrary.ca
DTSTART;TZID=America/Toronto:20260729T140000
DTEND;TZID=America/Toronto:20260729T150000
SUMMARY:BLOCK BOOKING SRC WEDNESDAYS 1A (delete when making events)
DESCRIPTION:
LOCATION:Sunnyside at Program Room 1A
SEQUENCE:0
END:VEVENT
BEGIN:VEVENT
DTSTAMP:20260330T161740Z
UID:event744168-1785952800@biblioottawalibrary.ca
ORGANIZER;CN=Ottawa Public Library:MAILTO:oplwebchanges@biblioottawalibrary.ca
DTSTART;TZID=America/Toronto:20260805T140000
DTEND;TZID=America/Toronto:20260805T150000
SUMMARY:BLOCK BOOKING SRC WEDNESDAYS 1A (delete when making events)
DESCRIPTION:
LOCATION:Sunnyside at Program Room 1A
SEQUENCE:0
END:VEVENT
BEGIN:VEVENT
DTSTAMP:20260330T161740Z
UID:event744168-1786557600@biblioottawalibrary.ca
ORGANIZER;CN=Ottawa Public Library:MAILTO:oplwebchanges@biblioottawalibrary.ca
DTSTART;TZID=America/Toronto:20260812T140000
DTEND;TZID=America/Toronto:20260812T150000
SUMMARY:BLOCK BOOKING SRC WEDNESDAYS 1A (delete when making events)
DESCRIPTION:
LOCATION:Sunnyside at Program Room 1A
SEQUENCE:0
END:VEVENT
BEGIN:VEVENT
DTSTAMP:20260330T161740Z
UID:event744168-1787162400@biblioottawalibrary.ca
ORGANIZER;CN=Ottawa Public Library:MAILTO:oplwebchanges@biblioottawalibrary.ca
DTSTART;TZID=America/Toronto:20260819T140000
DTEND;TZID=America/Toronto:20260819T150000
SUMMARY:BLOCK BOOKING SRC WEDNESDAYS 1A (delete when making events)
DESCRIPTION:
LOCATION:Sunnyside at Program Room 1A
SEQUENCE:0
END:VEVENT

END:VCALENDAR