
BEGIN:VCALENDAR
PRODID:-//Calendar//Calendar Event//EN
VERSION:2.0
METHOD:PUBLISH
BEGIN:VEVENT
DTSTAMP:20260330T161740Z
UID:event744165-1782244800@biblioottawalibrary.ca
ORGANIZER;CN=Ottawa Public Library:MAILTO:oplwebchanges@biblioottawalibrary.ca
DTSTART;TZID=America/Toronto:20260623T160000
DTEND;TZID=America/Toronto:20260623T170000
SUMMARY:BLOCK BOOKING SRC PARTY 1A (DELETE WHEN CREATING EVENT)
DESCRIPTION:
LOCATION:Sunnyside at Program Room 1A
SEQUENCE:0
END:VEVENT

END:VCALENDAR