
BEGIN:VCALENDAR
PRODID:-//Calendar//Calendar Event//EN
VERSION:2.0
METHOD:PUBLISH
BEGIN:VEVENT
DTSTAMP:20260422T164806Z
UID:event744145-1779548400@biblioottawalibrary.ca
ORGANIZER;CN=Ottawa Public Library:MAILTO:oplwebchanges@biblioottawalibrary.ca
DTSTART;TZID=America/Toronto:20260523T110000
DTEND;TZID=America/Toronto:20260523T120000
SUMMARY:Colour Playtime
DESCRIPTION:Explore colours with art\, science\, and sensory activities suitable for preschoolers.&nbsp\;Drop-in program.Ages 2-4.
LOCATION:Manotick at Meeting room
SEQUENCE:0
END:VEVENT

END:VCALENDAR