
BEGIN:VCALENDAR
PRODID:-//Calendar//Calendar Event//EN
VERSION:2.0
METHOD:PUBLISH
BEGIN:VEVENT
DTSTAMP:20260422T110617Z
UID:event744139-1783433700@biblioottawalibrary.ca
ORGANIZER;CN=Ottawa Public Library:MAILTO:oplwebchanges@biblioottawalibrary.ca
DTSTART;TZID=America/Toronto:20260707T101500
DTEND;TZID=America/Toronto:20260707T104500
SUMMARY:Toddlertime
DESCRIPTION:Stories\, rhymes\, and songs for toddlers 19-36 months and a parent/caregiver. Drop-in.
LOCATION:Beaverbrook at Meeting room B
SEQUENCE:0
END:VEVENT
BEGIN:VEVENT
DTSTAMP:20260422T110617Z
UID:event744139-1784038500@biblioottawalibrary.ca
ORGANIZER;CN=Ottawa Public Library:MAILTO:oplwebchanges@biblioottawalibrary.ca
DTSTART;TZID=America/Toronto:20260714T101500
DTEND;TZID=America/Toronto:20260714T104500
SUMMARY:Toddlertime
DESCRIPTION:Stories\, rhymes\, and songs for toddlers 19-36 months and a parent/caregiver. Drop-in.
LOCATION:Beaverbrook at Meeting room B
SEQUENCE:0
END:VEVENT
BEGIN:VEVENT
DTSTAMP:20260422T110617Z
UID:event744139-1784643300@biblioottawalibrary.ca
ORGANIZER;CN=Ottawa Public Library:MAILTO:oplwebchanges@biblioottawalibrary.ca
DTSTART;TZID=America/Toronto:20260721T101500
DTEND;TZID=America/Toronto:20260721T104500
SUMMARY:Toddlertime
DESCRIPTION:Stories\, rhymes\, and songs for toddlers 19-36 months and a parent/caregiver. Drop-in.
LOCATION:Beaverbrook at Meeting room B
SEQUENCE:0
END:VEVENT
BEGIN:VEVENT
DTSTAMP:20260422T110617Z
UID:event744139-1785248100@biblioottawalibrary.ca
ORGANIZER;CN=Ottawa Public Library:MAILTO:oplwebchanges@biblioottawalibrary.ca
DTSTART;TZID=America/Toronto:20260728T101500
DTEND;TZID=America/Toronto:20260728T104500
SUMMARY:Toddlertime
DESCRIPTION:Stories\, rhymes\, and songs for toddlers 19-36 months and a parent/caregiver. Drop-in.
LOCATION:Beaverbrook at Meeting room B
SEQUENCE:0
END:VEVENT
BEGIN:VEVENT
DTSTAMP:20260422T110617Z
UID:event744139-1785852900@biblioottawalibrary.ca
ORGANIZER;CN=Ottawa Public Library:MAILTO:oplwebchanges@biblioottawalibrary.ca
DTSTART;TZID=America/Toronto:20260804T101500
DTEND;TZID=America/Toronto:20260804T104500
SUMMARY:Toddlertime
DESCRIPTION:Stories\, rhymes\, and songs for toddlers 19-36 months and a parent/caregiver. Drop-in.
LOCATION:Beaverbrook at Meeting room B
SEQUENCE:0
END:VEVENT
BEGIN:VEVENT
DTSTAMP:20260422T110617Z
UID:event744139-1786457700@biblioottawalibrary.ca
ORGANIZER;CN=Ottawa Public Library:MAILTO:oplwebchanges@biblioottawalibrary.ca
DTSTART;TZID=America/Toronto:20260811T101500
DTEND;TZID=America/Toronto:20260811T104500
SUMMARY:Toddlertime
DESCRIPTION:Stories\, rhymes\, and songs for toddlers 19-36 months and a parent/caregiver. Drop-in.
LOCATION:Beaverbrook at Meeting room B
SEQUENCE:0
END:VEVENT
BEGIN:VEVENT
DTSTAMP:20260422T110617Z
UID:event744139-1787062500@biblioottawalibrary.ca
ORGANIZER;CN=Ottawa Public Library:MAILTO:oplwebchanges@biblioottawalibrary.ca
DTSTART;TZID=America/Toronto:20260818T101500
DTEND;TZID=America/Toronto:20260818T104500
SUMMARY:Toddlertime
DESCRIPTION:Stories\, rhymes\, and songs for toddlers 19-36 months and a parent/caregiver. Drop-in.
LOCATION:Beaverbrook at Meeting room B
SEQUENCE:0
END:VEVENT

END:VCALENDAR