
BEGIN:VCALENDAR
PRODID:-//Calendar//Calendar Event//EN
VERSION:2.0
METHOD:PUBLISH
BEGIN:VEVENT
DTSTAMP:20260422T102729Z
UID:event744138-1783261800@biblioottawalibrary.ca
ORGANIZER;CN=Ottawa Public Library:MAILTO:oplwebchanges@biblioottawalibrary.ca
DTSTART;TZID=America/Toronto:20260705T103000
DTEND;TZID=America/Toronto:20260705T110000
SUMMARY:Sunday Family Storytime
DESCRIPTION:Join us for stories\, rhymes\, and songs for children of all ages.​ All children welcome with a parent ​or caregiver. Drop in.&nbsp\;
LOCATION:Beaverbrook at Meeting room B
SEQUENCE:0
END:VEVENT
BEGIN:VEVENT
DTSTAMP:20260422T102729Z
UID:event744138-1784471400@biblioottawalibrary.ca
ORGANIZER;CN=Ottawa Public Library:MAILTO:oplwebchanges@biblioottawalibrary.ca
DTSTART;TZID=America/Toronto:20260719T103000
DTEND;TZID=America/Toronto:20260719T110000
SUMMARY:Sunday Family Storytime
DESCRIPTION:Join us for stories\, rhymes\, and songs for children of all ages.​ All children welcome with a parent ​or caregiver. Drop in.&nbsp\;
LOCATION:Beaverbrook at Meeting room B
SEQUENCE:0
END:VEVENT
BEGIN:VEVENT
DTSTAMP:20260422T102729Z
UID:event744138-1785681000@biblioottawalibrary.ca
ORGANIZER;CN=Ottawa Public Library:MAILTO:oplwebchanges@biblioottawalibrary.ca
DTSTART;TZID=America/Toronto:20260802T103000
DTEND;TZID=America/Toronto:20260802T110000
SUMMARY:Sunday Family Storytime
DESCRIPTION:Join us for stories\, rhymes\, and songs for children of all ages.​ All children welcome with a parent ​or caregiver. Drop in.&nbsp\;
LOCATION:Beaverbrook at Meeting room B
SEQUENCE:0
END:VEVENT
BEGIN:VEVENT
DTSTAMP:20260422T102729Z
UID:event744138-1786890600@biblioottawalibrary.ca
ORGANIZER;CN=Ottawa Public Library:MAILTO:oplwebchanges@biblioottawalibrary.ca
DTSTART;TZID=America/Toronto:20260816T103000
DTEND;TZID=America/Toronto:20260816T110000
SUMMARY:Sunday Family Storytime
DESCRIPTION:Join us for stories\, rhymes\, and songs for children of all ages.​ All children welcome with a parent ​or caregiver. Drop in.&nbsp\;
LOCATION:Beaverbrook at Meeting room B
SEQUENCE:0
END:VEVENT
BEGIN:VEVENT
DTSTAMP:20260422T102729Z
UID:event744138-1788100200@biblioottawalibrary.ca
ORGANIZER;CN=Ottawa Public Library:MAILTO:oplwebchanges@biblioottawalibrary.ca
DTSTART;TZID=America/Toronto:20260830T103000
DTEND;TZID=America/Toronto:20260830T110000
SUMMARY:Sunday Family Storytime
DESCRIPTION:Join us for stories\, rhymes\, and songs for children of all ages.​ All children welcome with a parent ​or caregiver. Drop in.&nbsp\;
LOCATION:Beaverbrook at Meeting room B
SEQUENCE:0
END:VEVENT

END:VCALENDAR