
BEGIN:VCALENDAR
PRODID:-//Calendar//Calendar Event//EN
VERSION:2.0
METHOD:PUBLISH
BEGIN:VEVENT
DTSTAMP:20260418T165813Z
UID:event744114-1778193000@biblioottawalibrary.ca
ORGANIZER;CN=Ottawa Public Library:MAILTO:oplwebchanges@biblioottawalibrary.ca
DTSTART;TZID=America/Toronto:20260507T183000
DTEND;TZID=America/Toronto:20260507T200000
SUMMARY:Main English Book Club
DESCRIPTION:Join us at the Main Branch for a monthly book club session!&nbsp\;Sessions take place mid-month at 6:30 p.m in room B125. Books are available to borrow from the first-floor service desk at the Main Branch.May 7th : Pure Color (Sheila Heti)&nbsp\;
LOCATION:Main at Room B125
SEQUENCE:0
END:VEVENT

END:VCALENDAR