
BEGIN:VCALENDAR
PRODID:-//Calendar//Calendar Event//EN
VERSION:2.0
METHOD:PUBLISH
BEGIN:VEVENT
DTSTAMP:20260417T162534Z
UID:event744101-1781964000@biblioottawalibrary.ca
ORGANIZER;CN=Ottawa Public Library:MAILTO:oplwebchanges@biblioottawalibrary.ca
DTSTART;TZID=America/Toronto:20260620T100000
DTEND;TZID=America/Toronto:20260620T120000
SUMMARY:Library Pop-Up: Reading Recommendations and Read-a-like Tools
DESCRIPTION:OPL offers many reference tools that you can access from home.&nbsp\; Drop-by\, discover these tools and get a personalised reading recommendation at our pop-up booth.June 20th\, 10 am - 12 pmLa BPO offre de nombreux outils de rÃ©fÃ©rence auxquels vous pouvez accÃ©der depuis&nbsp\;la maison.&nbsp\; Venez-nous voir\, dÃ©couvrez ces outils et obtenez une recommandation de lecture personnalisÃ©e&nbsp\;au kiosque 'pop-up'.Le 20 juin\, 10 h Ã  midi
LOCATION:Ruth E. Dickinson at 1st floor
SEQUENCE:0
END:VEVENT

END:VCALENDAR