
BEGIN:VCALENDAR
PRODID:-//Calendar//Calendar Event//EN
VERSION:2.0
METHOD:PUBLISH
BEGIN:VEVENT
DTSTAMP:20260422T111458Z
UID:event744140-1783175400@biblioottawalibrary.ca
ORGANIZER;CN=Ottawa Public Library:MAILTO:oplwebchanges@biblioottawalibrary.ca
DTSTART;TZID=America/Toronto:20260704T103000
DTEND;TZID=America/Toronto:20260704T110000
SUMMARY:Silly Saturday Storytime
DESCRIPTION:Stories\, rhymes and songs for children of all ages and a parent or caregiver. Drop-in.
LOCATION:Beaverbrook at Meeting room B
SEQUENCE:0
END:VEVENT
BEGIN:VEVENT
DTSTAMP:20260422T111458Z
UID:event744140-1783780200@biblioottawalibrary.ca
ORGANIZER;CN=Ottawa Public Library:MAILTO:oplwebchanges@biblioottawalibrary.ca
DTSTART;TZID=America/Toronto:20260711T103000
DTEND;TZID=America/Toronto:20260711T110000
SUMMARY:Silly Saturday Storytime
DESCRIPTION:Stories\, rhymes and songs for children of all ages and a parent or caregiver. Drop-in.
LOCATION:Beaverbrook at Meeting room B
SEQUENCE:0
END:VEVENT
BEGIN:VEVENT
DTSTAMP:20260422T111458Z
UID:event744140-1784385000@biblioottawalibrary.ca
ORGANIZER;CN=Ottawa Public Library:MAILTO:oplwebchanges@biblioottawalibrary.ca
DTSTART;TZID=America/Toronto:20260718T103000
DTEND;TZID=America/Toronto:20260718T110000
SUMMARY:Silly Saturday Storytime
DESCRIPTION:Stories\, rhymes and songs for children of all ages and a parent or caregiver. Drop-in.
LOCATION:Beaverbrook at Meeting room B
SEQUENCE:0
END:VEVENT
BEGIN:VEVENT
DTSTAMP:20260422T111458Z
UID:event744140-1784989800@biblioottawalibrary.ca
ORGANIZER;CN=Ottawa Public Library:MAILTO:oplwebchanges@biblioottawalibrary.ca
DTSTART;TZID=America/Toronto:20260725T103000
DTEND;TZID=America/Toronto:20260725T110000
SUMMARY:Silly Saturday Storytime
DESCRIPTION:Stories\, rhymes and songs for children of all ages and a parent or caregiver. Drop-in.
LOCATION:Beaverbrook at Meeting room B
SEQUENCE:0
END:VEVENT
BEGIN:VEVENT
DTSTAMP:20260422T111458Z
UID:event744140-1785594600@biblioottawalibrary.ca
ORGANIZER;CN=Ottawa Public Library:MAILTO:oplwebchanges@biblioottawalibrary.ca
DTSTART;TZID=America/Toronto:20260801T103000
DTEND;TZID=America/Toronto:20260801T110000
SUMMARY:Silly Saturday Storytime
DESCRIPTION:Stories\, rhymes and songs for children of all ages and a parent or caregiver. Drop-in.
LOCATION:Beaverbrook at Meeting room B
SEQUENCE:0
END:VEVENT
BEGIN:VEVENT
DTSTAMP:20260422T111458Z
UID:event744140-1786199400@biblioottawalibrary.ca
ORGANIZER;CN=Ottawa Public Library:MAILTO:oplwebchanges@biblioottawalibrary.ca
DTSTART;TZID=America/Toronto:20260808T103000
DTEND;TZID=America/Toronto:20260808T110000
SUMMARY:Silly Saturday Storytime
DESCRIPTION:Stories\, rhymes and songs for children of all ages and a parent or caregiver. Drop-in.
LOCATION:Beaverbrook at Meeting room B
SEQUENCE:0
END:VEVENT
BEGIN:VEVENT
DTSTAMP:20260422T111458Z
UID:event744140-1786804200@biblioottawalibrary.ca
ORGANIZER;CN=Ottawa Public Library:MAILTO:oplwebchanges@biblioottawalibrary.ca
DTSTART;TZID=America/Toronto:20260815T103000
DTEND;TZID=America/Toronto:20260815T110000
SUMMARY:Silly Saturday Storytime
DESCRIPTION:Stories\, rhymes and songs for children of all ages and a parent or caregiver. Drop-in.
LOCATION:Beaverbrook at Meeting room B
SEQUENCE:0
END:VEVENT
BEGIN:VEVENT
DTSTAMP:20260422T111458Z
UID:event744140-1787409000@biblioottawalibrary.ca
ORGANIZER;CN=Ottawa Public Library:MAILTO:oplwebchanges@biblioottawalibrary.ca
DTSTART;TZID=America/Toronto:20260822T103000
DTEND;TZID=America/Toronto:20260822T110000
SUMMARY:Silly Saturday Storytime
DESCRIPTION:Stories\, rhymes and songs for children of all ages and a parent or caregiver. Drop-in.
LOCATION:Beaverbrook at Meeting room B
SEQUENCE:0
END:VEVENT

END:VCALENDAR