
BEGIN:VCALENDAR
PRODID:-//Calendar//Calendar Event//EN
VERSION:2.0
METHOD:PUBLISH
BEGIN:VEVENT
DTSTAMP:20260422T102323Z
UID:event744135-1779028200@biblioottawalibrary.ca
ORGANIZER;CN=Ottawa Public Library:MAILTO:oplwebchanges@biblioottawalibrary.ca
DTSTART;TZID=America/Toronto:20260517T103000
DTEND;TZID=America/Toronto:20260517T110000
SUMMARY:Sunday Family Storytime
DESCRIPTION:Join us for stories\, rhymes\, and songs for children of all ages.​ All children welcome with a parent ​or caregiver. Drop in.&nbsp\;
LOCATION:Beaverbrook at Meeting room B
SEQUENCE:0
END:VEVENT
BEGIN:VEVENT
DTSTAMP:20260422T102323Z
UID:event744135-1780237800@biblioottawalibrary.ca
ORGANIZER;CN=Ottawa Public Library:MAILTO:oplwebchanges@biblioottawalibrary.ca
DTSTART;TZID=America/Toronto:20260531T103000
DTEND;TZID=America/Toronto:20260531T110000
SUMMARY:Sunday Family Storytime
DESCRIPTION:Join us for stories\, rhymes\, and songs for children of all ages.​ All children welcome with a parent ​or caregiver. Drop in.&nbsp\;
LOCATION:Beaverbrook at Meeting room B
SEQUENCE:0
END:VEVENT
BEGIN:VEVENT
DTSTAMP:20260422T102323Z
UID:event744135-1781447400@biblioottawalibrary.ca
ORGANIZER;CN=Ottawa Public Library:MAILTO:oplwebchanges@biblioottawalibrary.ca
DTSTART;TZID=America/Toronto:20260614T103000
DTEND;TZID=America/Toronto:20260614T110000
SUMMARY:Sunday Family Storytime
DESCRIPTION:Join us for stories\, rhymes\, and songs for children of all ages.​ All children welcome with a parent ​or caregiver. Drop in.&nbsp\;
LOCATION:Beaverbrook at Meeting room B
SEQUENCE:0
END:VEVENT

END:VCALENDAR