
BEGIN:VCALENDAR
PRODID:-//Calendar//Calendar Event//EN
VERSION:2.0
METHOD:PUBLISH
BEGIN:VEVENT
DTSTAMP:20260420T133549Z
UID:event744121-1778941800@biblioottawalibrary.ca
ORGANIZER;CN=Ottawa Public Library:MAILTO:oplwebchanges@biblioottawalibrary.ca
DTSTART;TZID=America/Toronto:20260516T103000
DTEND;TZID=America/Toronto:20260516T133000
SUMMARY:D.I.Y. Playdough 
DESCRIPTION:We invite you to explore your creativity at the North Gower branch and see what&nbsp\;you can create with playdough!&nbsp\;
LOCATION:North Gower at Library
SEQUENCE:0
END:VEVENT

END:VCALENDAR