
BEGIN:VCALENDAR
PRODID:-//Calendar//Calendar Event//EN
VERSION:2.0
METHOD:PUBLISH
BEGIN:VEVENT
DTSTAMP:20260418T104156Z
UID:event744108-1779919200@biblioottawalibrary.ca
ORGANIZER;CN=Ottawa Public Library:MAILTO:oplwebchanges@biblioottawalibrary.ca
DTSTART;TZID=America/Toronto:20260527T180000
DTEND;TZID=America/Toronto:20260527T203000
SUMMARY:Teen Craft Corner
DESCRIPTION:This event is organized by the teen members of the Nepean Centrepointe branch's Teen Advisory Group.Come hang out at the library and work on a creative project while enjoying music and free snacks! Bring your own project or use our arts and craft supplies to start something new.This is an informal\, drop-in program\, so feel free to come and go when you like.Ages 13-18 (Grades 8-12)
LOCATION:Nepean Centrepointe at Teen Zone
SEQUENCE:0
END:VEVENT

END:VCALENDAR