
BEGIN:VCALENDAR
PRODID:-//Calendar//Calendar Event//EN
VERSION:2.0
METHOD:PUBLISH
BEGIN:VEVENT
DTSTAMP:20260410T154853Z
UID:event743994-1777312800@biblioottawalibrary.ca
ORGANIZER;CN=Ottawa Public Library:MAILTO:oplwebchanges@biblioottawalibrary.ca
DTSTART;TZID=America/Toronto:20260427T140000
DTEND;TZID=America/Toronto:20260427T153000
SUMMARY:PD Day - Lego® Extravaganza
DESCRIPTION:Join us for an afternoon of Lego® fun! Participants can take on building challenges\, design their own creative art projects\, or construct an imaginative scene. Builders will also have the option to leave their creations on display for others to admire throughout the month of May.This is a drop-in\, family-friendly program.&nbsp\;
LOCATION:Emerald Plaza at Traszha Macdowall 
SEQUENCE:0
END:VEVENT

END:VCALENDAR