
BEGIN:VCALENDAR
PRODID:-//Calendar//Calendar Event//EN
VERSION:2.0
METHOD:PUBLISH
BEGIN:VEVENT
DTSTAMP:20260404T110104Z
UID:event743947-1778537700@biblioottawalibrary.ca
ORGANIZER;CN=Ottawa Public Library:MAILTO:oplwebchanges@biblioottawalibrary.ca
DTSTART;TZID=America/Toronto:20260511T181500
DTEND;TZID=America/Toronto:20260511T201500
SUMMARY:Monday Night at the Movies/ Lundi cinÃ©ma
DESCRIPTION:Join us at Sunnyside for our&nbsp\;monthly&nbsp\;film screening every second Monday of the month.Monday May 11th&nbsp\; at 6:15pm&nbsp\;&nbsp\;-About Time &nbsp\;Monday June 8th- 6\;15 pm- C.R.A.Z.Y. (French with English subtitles)&nbsp\;Monday July 13th 6:15- Back to the Future &nbsp\;Monday August 10th 6:15&nbsp\;&nbsp\;Jurassic Park............................................................................................................................................................................Rendez-vous Ã  la succursale Sunnyside pour une soirÃ©e cinÃ©ma chaque deuxiÃ¨me lundi du mois.Lundi 11&nbsp\;mai Ã  18&nbsp\;h&nbsp\;15&nbsp\;: About Time (en anglais)Lundi 8&nbsp\;juin Ã  18&nbsp\;h&nbsp\;15&nbsp\;: C.R.A.Z.Y. (en franÃ§ais avec sous-titres en anglais)Lundi 13&nbsp\;juillet Ã  18&nbsp\;h&nbsp\;15&nbsp\;: Back to the Future (en anglais )Lundi 10&nbsp\;aoÃ»t Ã  18&nbsp\;h&nbsp\;15&nbsp\;: Jurassic Park (en anglais)
LOCATION:Sunnyside at Program room 1B
SEQUENCE:0
END:VEVENT
BEGIN:VEVENT
DTSTAMP:20260404T110104Z
UID:event743947-1780956900@biblioottawalibrary.ca
ORGANIZER;CN=Ottawa Public Library:MAILTO:oplwebchanges@biblioottawalibrary.ca
DTSTART;TZID=America/Toronto:20260608T181500
DTEND;TZID=America/Toronto:20260608T201500
SUMMARY:Monday Night at the Movies/ Lundi cinÃ©ma
DESCRIPTION:Join us at Sunnyside for our&nbsp\;monthly&nbsp\;film screening every second Monday of the month.Monday May 11th&nbsp\; at 6:15pm&nbsp\;&nbsp\;-About Time &nbsp\;Monday June 8th- 6\;15 pm- C.R.A.Z.Y. (French with English subtitles)&nbsp\;Monday July 13th 6:15- Back to the Future &nbsp\;Monday August 10th 6:15&nbsp\;&nbsp\;Jurassic Park............................................................................................................................................................................Rendez-vous Ã  la succursale Sunnyside pour une soirÃ©e cinÃ©ma chaque deuxiÃ¨me lundi du mois.Lundi 11&nbsp\;mai Ã  18&nbsp\;h&nbsp\;15&nbsp\;: About Time (en anglais)Lundi 8&nbsp\;juin Ã  18&nbsp\;h&nbsp\;15&nbsp\;: C.R.A.Z.Y. (en franÃ§ais avec sous-titres en anglais)Lundi 13&nbsp\;juillet Ã  18&nbsp\;h&nbsp\;15&nbsp\;: Back to the Future (en anglais )Lundi 10&nbsp\;aoÃ»t Ã  18&nbsp\;h&nbsp\;15&nbsp\;: Jurassic Park (en anglais)
LOCATION:Sunnyside at Program room 1B
SEQUENCE:0
END:VEVENT
BEGIN:VEVENT
DTSTAMP:20260404T110104Z
UID:event743947-1783980900@biblioottawalibrary.ca
ORGANIZER;CN=Ottawa Public Library:MAILTO:oplwebchanges@biblioottawalibrary.ca
DTSTART;TZID=America/Toronto:20260713T181500
DTEND;TZID=America/Toronto:20260713T201500
SUMMARY:Monday Night at the Movies/ Lundi cinÃ©ma
DESCRIPTION:Join us at Sunnyside for our&nbsp\;monthly&nbsp\;film screening every second Monday of the month.Monday May 11th&nbsp\; at 6:15pm&nbsp\;&nbsp\;-About Time &nbsp\;Monday June 8th- 6\;15 pm- C.R.A.Z.Y. (French with English subtitles)&nbsp\;Monday July 13th 6:15- Back to the Future &nbsp\;Monday August 10th 6:15&nbsp\;&nbsp\;Jurassic Park............................................................................................................................................................................Rendez-vous Ã  la succursale Sunnyside pour une soirÃ©e cinÃ©ma chaque deuxiÃ¨me lundi du mois.Lundi 11&nbsp\;mai Ã  18&nbsp\;h&nbsp\;15&nbsp\;: About Time (en anglais)Lundi 8&nbsp\;juin Ã  18&nbsp\;h&nbsp\;15&nbsp\;: C.R.A.Z.Y. (en franÃ§ais avec sous-titres en anglais)Lundi 13&nbsp\;juillet Ã  18&nbsp\;h&nbsp\;15&nbsp\;: Back to the Future (en anglais )Lundi 10&nbsp\;aoÃ»t Ã  18&nbsp\;h&nbsp\;15&nbsp\;: Jurassic Park (en anglais)
LOCATION:Sunnyside at Program room 1B
SEQUENCE:0
END:VEVENT
BEGIN:VEVENT
DTSTAMP:20260404T110104Z
UID:event743947-1786400100@biblioottawalibrary.ca
ORGANIZER;CN=Ottawa Public Library:MAILTO:oplwebchanges@biblioottawalibrary.ca
DTSTART;TZID=America/Toronto:20260810T181500
DTEND;TZID=America/Toronto:20260810T201500
SUMMARY:Monday Night at the Movies/ Lundi cinÃ©ma
DESCRIPTION:Join us at Sunnyside for our&nbsp\;monthly&nbsp\;film screening every second Monday of the month.Monday May 11th&nbsp\; at 6:15pm&nbsp\;&nbsp\;-About Time &nbsp\;Monday June 8th- 6\;15 pm- C.R.A.Z.Y. (French with English subtitles)&nbsp\;Monday July 13th 6:15- Back to the Future &nbsp\;Monday August 10th 6:15&nbsp\;&nbsp\;Jurassic Park............................................................................................................................................................................Rendez-vous Ã  la succursale Sunnyside pour une soirÃ©e cinÃ©ma chaque deuxiÃ¨me lundi du mois.Lundi 11&nbsp\;mai Ã  18&nbsp\;h&nbsp\;15&nbsp\;: About Time (en anglais)Lundi 8&nbsp\;juin Ã  18&nbsp\;h&nbsp\;15&nbsp\;: C.R.A.Z.Y. (en franÃ§ais avec sous-titres en anglais)Lundi 13&nbsp\;juillet Ã  18&nbsp\;h&nbsp\;15&nbsp\;: Back to the Future (en anglais )Lundi 10&nbsp\;aoÃ»t Ã  18&nbsp\;h&nbsp\;15&nbsp\;: Jurassic Park (en anglais)
LOCATION:Sunnyside at Program room 1B
SEQUENCE:0
END:VEVENT

END:VCALENDAR